BEGIN:VCALENDAR
VERSION:2.0
PRODID:-//Global Foundation for the Performing Arts - ECPv6.15.13//NONSGML v1.0//EN
CALSCALE:GREGORIAN
METHOD:PUBLISH
X-ORIGINAL-URL:https://gfpa.ngo
X-WR-CALDESC:Events for Global Foundation for the Performing Arts
REFRESH-INTERVAL;VALUE=DURATION:PT1H
X-Robots-Tag:noindex
X-PUBLISHED-TTL:PT1H
BEGIN:VTIMEZONE
TZID:Europe/Vienna
BEGIN:DAYLIGHT
TZOFFSETFROM:+0100
TZOFFSETTO:+0200
TZNAME:CEST
DTSTART:20220327T010000
END:DAYLIGHT
BEGIN:STANDARD
TZOFFSETFROM:+0200
TZOFFSETTO:+0100
TZNAME:CET
DTSTART:20221030T010000
END:STANDARD
BEGIN:DAYLIGHT
TZOFFSETFROM:+0100
TZOFFSETTO:+0200
TZNAME:CEST
DTSTART:20230326T010000
END:DAYLIGHT
BEGIN:STANDARD
TZOFFSETFROM:+0200
TZOFFSETTO:+0100
TZNAME:CET
DTSTART:20231029T010000
END:STANDARD
BEGIN:DAYLIGHT
TZOFFSETFROM:+0100
TZOFFSETTO:+0200
TZNAME:CEST
DTSTART:20240331T010000
END:DAYLIGHT
BEGIN:STANDARD
TZOFFSETFROM:+0200
TZOFFSETTO:+0100
TZNAME:CET
DTSTART:20241027T010000
END:STANDARD
BEGIN:DAYLIGHT
TZOFFSETFROM:+0100
TZOFFSETTO:+0200
TZNAME:CEST
DTSTART:20250330T010000
END:DAYLIGHT
BEGIN:STANDARD
TZOFFSETFROM:+0200
TZOFFSETTO:+0100
TZNAME:CET
DTSTART:20251026T010000
END:STANDARD
END:VTIMEZONE
BEGIN:VEVENT
DTSTART;VALUE=DATE:20240715
DTEND;VALUE=DATE:20240811
DTSTAMP:20260422T220722
CREATED:20231221T155709Z
LAST-MODIFIED:20231221T155709Z
UID:10000195-1721001600-1723334399@gfpa.ngo
SUMMARY:International Summer Academy 2024
DESCRIPTION:The Mozarteum University is looking forward to a lively academy summer and invites you to the International Summer Academy 2024 in Salzburg from 15 July to 10 August. Participants can look forward to a summer of intensive masterclasses by top-class artists and teachers\, numerous public concerts and a colourful supporting programme. \nIn addition to tried-and-tested concert formats such as the Lecturers’ Concerts\, Studio Concerts and guest performances at Schloss Höch\, the week will conclude with a matinee on the Saturday of each course period\, at which nominated students will present their skills to a jury. At the end\, the best three musicians will emerge as the winners of the week. \nThe International Summer Academy 2024 lecturers include: Christian Altenburger\, Myrto Aretaiou\, Jan Jiracek von Arnim\, Daniel Auner\, Matthias Bartolomey\, Zakhar Bron\, Ya-Fei Chuang\, Michèle Crider\, Mario Diaz\, Barbara Doll\, Andreas Frölich\, Annelie Gahl\, Matthieu Gauci-Ancelin\, Alexander Gilman\, Michaela Girardi\, Martin Grubinger\, Bernhard Hagspiel\, Kilian Herold\, Christopher Hinterhuber\, Christian Immler\, Mauro Iurato\, Ji Hye Jung\, Vesselina Kasarova\, Peter Lang\, Robert Levin\, Hannfried Lucke\, Andreas Macco\, Orfeo Mandozzi\, Silvia Marcovici\, Jura Margulis\, Pumeza Matshikiza\, Lei Meng\, Philipp Meraner\, Leonel Morales\, Daniel Okulitch\, Peter Ovtcharov\, Janet Perry\, Igor Petrushevski\, Rolf Plagge\, Mikhail Pochekin\, Valentin Radutiu\, Thomas Riebl\, Rafael Rosenfeld\, Andreas Schmidt\, Sergiu Schwartz\, Connie Shih\, Christoph Strehl\, Zohrab Tadevosyan\, Zhe Tang\, John Thomasson\, Weidong Tong\, Kirill Troussov\, Pauliina Tukiainen\, Philipp Tutzer\, Michael Vaiman\, Arie Vardi\, Andreas Weber\, Johannes Wilhelm\, Kwangchul Youn\, Konstantin Zelenin\, Zheng Zhou. \n  \nEvery year\, the International Summer Academy welcomes musicians from all over the world to the Mozarteum University Salzburg. Founded in 1916 by Lilli Lehmann\, it now offers masterclasses with outstanding teachers from the Mozarteum University and internationally renowned artists. The diverse program offers space for intercultural encounters and musical fine-tuning.
URL:https://gfpa.ngo/event/international-summer-academy-2024/
LOCATION:Salzburg\, Salzburg\, Austria
CATEGORIES:Academies & Schools
ATTACH;FMTTYPE=image/jpeg:https://gfpa.ngo/wp-content/uploads/2023/12/Mozarteum-University-e1703173730340.jpg
ORGANIZER;CN="Mozarteum University":MAILTO:mozartwettbewerb@moz.ac.at
GEO:47.80949;13.05501
END:VEVENT
BEGIN:VEVENT
DTSTART;VALUE=DATE:20230720
DTEND;VALUE=DATE:20230901
DTSTAMP:20260422T220722
CREATED:20221217T004335Z
LAST-MODIFIED:20230806T125520Z
UID:10000065-1689811200-1693526399@gfpa.ngo
SUMMARY:Salzburg Festival 2023
DESCRIPTION:The Salzburg Festival 2023 includes 179 Performances on 43 Days at 15 Venues as well as 34 Performances in the Youth Programme jung & jede*r. \nThe Salzburg Festival was founded more than 100 years ago by Hugo von Hofmannsthal\, Max Reinhardt and Richard Strauss\, and is a magnet today more than ever. We are often asked what the secret of this Festival is and what makes it so special and magical. There are three main factors that make the Festival such a success: \n\n\n\nFirst of all\, the Salzburg Festival offers a broader artistic program than any other festival: Salzburg features opera\, drama and concerts. And in the selection of works and interpretations\, it also offers the broadest spectrum from Mozart\, the genius loci\, to modern works\, from classical interpretations to avant-garde experimentation\, from Hofmannsthal’s Jedermann to Tchaikovsky’s Eugene Onegin. And only the best and most famous artists from all over the world are invited to Salzburg. \nFurthermore\, visitors to the Salzburg Festival can combine the enjoyment of art with vacationing. During the daytime\, the unique surroundings and the lakes of the Salzkammergut make for wonderful excursions and golfing – in the evening\, the Festival beckons with incomparable performances. \nAnd finally\, the Salzburg Festival has a very special flair. Salzburg’s Hofstallgasse and the entire Baroque old city center form the Festival’s backdrop. \nIn a city that has preserved its baroque architecture in almost perfect condition and therefore is a breathtaking backdrop in itself\, the Salzburg Festival presents performances of opera\, plays and concerts of the highest artistic standards over a period of five to six weeks each summer. The Salzburg Festival is often described as the greatest and most important festival in the world\, and this reputation is confirmed by countless superlatives: witness the number of performances and of annual visitors\, or the wide-ranging programme. \nConductors\, stage-directors\, orchestras\, singers\, actors and virtuoso instrumentalists of world renown can be seen and heard in July and August in the town on the river Salzach. Even the most eminent opera stars come together here to rehearse productions intensively for several weeks\, thereby fulfilling the creed of the Salzburg Festival as it was originally envisioned by Hugo von Hofmannsthal\, one of the Festival’s founding fathers: “Dramatic play-acting in the strongest sense is our intention; routine\, run-of-the-mill performances have no place here.” \n\n\n\n\nTicket purchase orders for the Salzburg Festival 2023 will be processed from 23 January 2023 onwards. Direct bookings via the Festival website begin on 30 March 2023.
URL:https://gfpa.ngo/event/salzburg-festival-2023/
LOCATION:Salzburg\, Salzburg\, Austria
CATEGORIES:Festivals
ATTACH;FMTTYPE=image/jpeg:https://gfpa.ngo/wp-content/uploads/2022/12/Salzburg-Festival-e1671237142211.jpeg
ORGANIZER;CN="Salzburg Festival":MAILTO:info@salzburgfestival.at
GEO:47.80949;13.05501
END:VEVENT
BEGIN:VEVENT
DTSTART;VALUE=DATE:20230717
DTEND;VALUE=DATE:20230813
DTSTAMP:20260422T220722
CREATED:20221222T161721Z
LAST-MODIFIED:20230806T125521Z
UID:10000069-1689552000-1691884799@gfpa.ngo
SUMMARY:International Summer Academy 2023
DESCRIPTION:International Summer Academy 2023 \nMasterclasses\, Concerts\, Events \nArtistic Director: Hannfried Lucke \n  \nApplication: March 27 – April 24\, 2023 \nTo register\, please visit our website https://www.uni-mozarteum.at/en/kunst/soak/ and set up your personal account in the section „ONLINE-APPLICATION“. \n  \n\n\n\n\n\n\nThe International Summer Academy 2023 fee includes: \n\n–  4 private lessons\, 45 minutes each\n–  Attending all other masterclasses as a listener\n–  2 hours of practice time/day for active participants in a masterclass\n–  3 hours of practice time/day for participants in the piano masterclasses\n–  Participation in mock auditions\n–  Workshops for breathing technique & bodyworks\n–  Yoga in the morning\n–  Free entry to concerts and performance opportunities\n\n\n\n\n\nThe International Summer Academy can offer help in trying to arrange accommodation in student halls of residence. When you have successfully booked a masterclass/additional course\, you gain access to a list of addresses of possible student halls of residence and private accommodation options. In case of private accommodation options\, all rental agreements have to be made with the landlord/landlady directly. \n  \n\n\n\n\n\n\n\n\n\n\n\nParticipants in the International Summer Academy have various performance opportunities: \n\n–  Studio concerts\n–  Concerts in external locations in and around Salzburg\n–  Mock auditions\n–  Final Matinee on Saturday morning after a preselection by a jury\n\nClick HERE for more information. \n\n\n\n 
URL:https://gfpa.ngo/event/international-summer-academy-2023/
LOCATION:Salzburg\, Salzburg\, Austria
CATEGORIES:Academies & Schools
ATTACH;FMTTYPE=image/jpeg:https://gfpa.ngo/wp-content/uploads/2022/12/International-Summer-Academy-2023-e1671725046375.jpg
ORGANIZER;CN="Mozarteum University":MAILTO:mozartwettbewerb@moz.ac.at
GEO:47.80949;13.05501
END:VEVENT
BEGIN:VEVENT
DTSTART;VALUE=DATE:20230203
DTEND;VALUE=DATE:20230217
DTSTAMP:20260422T220722
CREATED:20221113T171204Z
LAST-MODIFIED:20230806T125721Z
UID:10000008-1675382400-1676591999@gfpa.ngo
SUMMARY:International Mozart Competition 2023
DESCRIPTION:The 15th International Mozart Competition 2023 will take place from 3 to 16 February 2023 for string quartet and voice. \nSince its beginnings\, the International Mozart Competition of the University Mozarteum Salzburg is one of the great music competitions worldwide. Music by Mozart is at the centre of the competition and the aim is for the oeuvre of this genius to be constantly discovered anew by the young generation of excellent performers. Allow yourselves either as participants or as guests to be enchanted by the special atmosphere of Salzburg and share in the excitement and enjoyment of this renowned competition with festival character.
URL:https://gfpa.ngo/event/international-mozart-competition-2023/
LOCATION:Salzburg\, Salzburg\, Austria
CATEGORIES:Competitions
ATTACH;FMTTYPE=image/jpeg:https://gfpa.ngo/wp-content/uploads/2022/11/International-Mozart-Competition-2023-e1668356536676.jpg
ORGANIZER;CN="Mozarteum University":MAILTO:mozartwettbewerb@moz.ac.at
GEO:47.80949;13.05501
END:VEVENT
END:VCALENDAR