BEGIN:VCALENDAR
VERSION:2.0
PRODID:-//Global Foundation for the Performing Arts - ECPv6.15.13//NONSGML v1.0//EN
CALSCALE:GREGORIAN
METHOD:PUBLISH
X-ORIGINAL-URL:https://gfpa.ngo
X-WR-CALDESC:Events for Global Foundation for the Performing Arts
REFRESH-INTERVAL;VALUE=DURATION:PT1H
X-Robots-Tag:noindex
X-PUBLISHED-TTL:PT1H
BEGIN:VTIMEZONE
TZID:Europe/Rome
BEGIN:DAYLIGHT
TZOFFSETFROM:+0100
TZOFFSETTO:+0200
TZNAME:CEST
DTSTART:20230326T010000
END:DAYLIGHT
BEGIN:STANDARD
TZOFFSETFROM:+0200
TZOFFSETTO:+0100
TZNAME:CET
DTSTART:20231029T010000
END:STANDARD
BEGIN:DAYLIGHT
TZOFFSETFROM:+0100
TZOFFSETTO:+0200
TZNAME:CEST
DTSTART:20240331T010000
END:DAYLIGHT
BEGIN:STANDARD
TZOFFSETFROM:+0200
TZOFFSETTO:+0100
TZNAME:CET
DTSTART:20241027T010000
END:STANDARD
BEGIN:DAYLIGHT
TZOFFSETFROM:+0100
TZOFFSETTO:+0200
TZNAME:CEST
DTSTART:20250330T010000
END:DAYLIGHT
BEGIN:STANDARD
TZOFFSETFROM:+0200
TZOFFSETTO:+0100
TZNAME:CET
DTSTART:20251026T010000
END:STANDARD
END:VTIMEZONE
BEGIN:VEVENT
DTSTART;VALUE=DATE:20240608
DTEND;VALUE=DATE:20240617
DTSTAMP:20260422T042614
CREATED:20231223T162707Z
LAST-MODIFIED:20231223T162707Z
UID:10000198-1717804800-1718582399@gfpa.ngo
SUMMARY:Premio Paolo Borciani International String Quartet Competition 2024
DESCRIPTION:Fondazione I Teatri of Reggio Emilia (Italy) is issuing a call for participation in the 13th “Premio Paolo Borciani” International String Quartet Competition.\nThe Competition will take place from June 8 to 16\, 2024\, at Teatro Municipale Romolo Valli in Reggio Emilia. \n\n\n\n\n  \nThe Competition is open to String Quartets of any nationalities.\nThe combined age of the four members of each Quartet must not exceed 128 years. Single members can be no older than 35 years old as of June 7\, 2024 (included). \n\n\n\n\n\n  \nThe Premio Paolo Borciani International String Quartet Competition 2024 includes four rounds for all quartets admitted to the Competition and a final round to which 3 quartets will be admitted: \n· 1st round > The eighteenth century / Beethoven \n· 2nd round > The nineteenth century \n· 3rd round > Carte blanche \n· 4th round > From the Twentieth Century to the Contemporary period / Gérard Pesson \n· Final round > A quartet of your choice from the “Round Repertoire” not performed in previous rounds. \n\n\n\n\n\n\n\n  \nThe application form and all the materials requested and indicated above must be sent starting from Monday\, October 9\, 2023 and no later than 18:00 CET on Monday\, January 8\, 2024. \n\n\nThe application form for the Premio Paolo Borciani International String Quartet Competition 2024 can be found here.
URL:https://gfpa.ngo/event/premio-paolo-borciani-international-string-quartet-competition-2024/
LOCATION:I Teatri\, Piazza Martiri del 7 luglio\, 7\, Reggio Emilia\, 42121\, Italy
CATEGORIES:Competitions
ATTACH;FMTTYPE=image/jpeg:https://gfpa.ngo/wp-content/uploads/2023/12/Premio-Paolo-Borciani-International-String-Quartet-Competition-e1703347852149.jpg
GEO:44.700358;10.6312292
X-APPLE-STRUCTURED-LOCATION;VALUE=URI;X-ADDRESS=I Teatri Piazza Martiri del 7 luglio 7 Reggio Emilia 42121 Italy;X-APPLE-RADIUS=500;X-TITLE=Piazza Martiri del 7 luglio\, 7:geo:10.6312292,44.700358
END:VEVENT
END:VCALENDAR