BEGIN:VCALENDAR
VERSION:2.0
PRODID:-//Global Foundation for the Performing Arts - ECPv6.15.13//NONSGML v1.0//EN
CALSCALE:GREGORIAN
METHOD:PUBLISH
X-WR-CALNAME:Global Foundation for the Performing Arts
X-ORIGINAL-URL:https://gfpa.ngo
X-WR-CALDESC:Events for Global Foundation for the Performing Arts
REFRESH-INTERVAL;VALUE=DURATION:PT1H
X-Robots-Tag:noindex
X-PUBLISHED-TTL:PT1H
BEGIN:VTIMEZONE
TZID:America/New_York
BEGIN:DAYLIGHT
TZOFFSETFROM:-0500
TZOFFSETTO:-0400
TZNAME:EDT
DTSTART:20220313T070000
END:DAYLIGHT
BEGIN:STANDARD
TZOFFSETFROM:-0400
TZOFFSETTO:-0500
TZNAME:EST
DTSTART:20221106T060000
END:STANDARD
BEGIN:DAYLIGHT
TZOFFSETFROM:-0500
TZOFFSETTO:-0400
TZNAME:EDT
DTSTART:20230312T070000
END:DAYLIGHT
BEGIN:STANDARD
TZOFFSETFROM:-0400
TZOFFSETTO:-0500
TZNAME:EST
DTSTART:20231105T060000
END:STANDARD
BEGIN:DAYLIGHT
TZOFFSETFROM:-0500
TZOFFSETTO:-0400
TZNAME:EDT
DTSTART:20240310T070000
END:DAYLIGHT
BEGIN:STANDARD
TZOFFSETFROM:-0400
TZOFFSETTO:-0500
TZNAME:EST
DTSTART:20241103T060000
END:STANDARD
BEGIN:DAYLIGHT
TZOFFSETFROM:-0500
TZOFFSETTO:-0400
TZNAME:EDT
DTSTART:20250309T070000
END:DAYLIGHT
BEGIN:STANDARD
TZOFFSETFROM:-0400
TZOFFSETTO:-0500
TZNAME:EST
DTSTART:20251102T060000
END:STANDARD
END:VTIMEZONE
BEGIN:VTIMEZONE
TZID:Europe/London
BEGIN:DAYLIGHT
TZOFFSETFROM:+0000
TZOFFSETTO:+0100
TZNAME:BST
DTSTART:20220327T010000
END:DAYLIGHT
BEGIN:STANDARD
TZOFFSETFROM:+0100
TZOFFSETTO:+0000
TZNAME:GMT
DTSTART:20221030T010000
END:STANDARD
BEGIN:DAYLIGHT
TZOFFSETFROM:+0000
TZOFFSETTO:+0100
TZNAME:BST
DTSTART:20230326T010000
END:DAYLIGHT
BEGIN:STANDARD
TZOFFSETFROM:+0100
TZOFFSETTO:+0000
TZNAME:GMT
DTSTART:20231029T010000
END:STANDARD
BEGIN:DAYLIGHT
TZOFFSETFROM:+0000
TZOFFSETTO:+0100
TZNAME:BST
DTSTART:20240331T010000
END:DAYLIGHT
BEGIN:STANDARD
TZOFFSETFROM:+0100
TZOFFSETTO:+0000
TZNAME:GMT
DTSTART:20241027T010000
END:STANDARD
END:VTIMEZONE
BEGIN:VEVENT
DTSTART;VALUE=DATE:20240109
DTEND;VALUE=DATE:20240112
DTSTAMP:20260426T002023
CREATED:20231024T141907Z
LAST-MODIFIED:20231024T141907Z
UID:10000164-1704758400-1705017599@gfpa.ngo
SUMMARY:ISPA Congress 2024
DESCRIPTION:The ISPA Congress 2024 will take place from 9 to 11 January in New York City. \n  \nThe theme for this Congress is – BRIDGING THE GAP \nThe performing arts have long provided an effective platform for exploring greater societal issues. However\, the arts sector itself grapples with the same challenges\, including inequities\, regional conflict\, generational shifts\, climate change\, and scarcity of funding and training resources. These are just a few of the issues currently at hand. As we recover from years of significant upheaval\, how can our sector overcome the gaps that currently exist? By reconciling these gaps in the performing arts\, how can we affect positive change on greater society? \n  \nRegister for the ISPA Congress 2024 HERE. \n  \nAbout ISPA \nMission \nThe mission of the International Society for the Performing Arts (ISPA) is to strengthen the performing arts globally through the advancement of leadership\, the exchange of ideas\, and by fostering a diverse and engaged membership. \n  \nVision \nTo be a leading global network of diverse cultural professionals\, reflecting the entire ecosystem of the performing arts. This network will strengthen communities\, and further develop and promote the appreciation and recognition of the importance of the arts to society. \n  \nValues \nAs an organization we aspire to uphold a set of commonly held values as follows: \n  \nProfessional Integrity and Excellence \nActing with honesty\, integrity\, and openness to achieve the highest quality in our own work and in that of our members’ \nCollaboration and Cooperation \nPromoting collaboration\, cooperation and partnership among members and with others globally \nEquity\, Diversity\, and Inclusion \nProactively ensuring the right of all members to participate without discrimination\, including with respect to: political and/or religious beliefs\, gender identity\, sexual orientation\, socio-economic circumstances\, national origin\, race\, age\, or disability
URL:https://gfpa.ngo/event/ispa-congress-2024/
LOCATION:New York\, New York\, NY\, United States
CATEGORIES:Conferences
ATTACH;FMTTYPE=image/png:https://gfpa.ngo/wp-content/uploads/2023/10/ISPA-Congress-2024.png
GEO:40.7127753;-74.0059728
END:VEVENT
BEGIN:VEVENT
DTSTART;VALUE=DATE:20230627
DTEND;VALUE=DATE:20230701
DTSTAMP:20260426T002023
CREATED:20230316T013735Z
LAST-MODIFIED:20230806T125533Z
UID:10000109-1687824000-1688169599@gfpa.ngo
SUMMARY:ISPA Congress Manchester 2023
DESCRIPTION:ISPA will present its mid-year Congress in Manchester from 27 to 30 June 2023. \n  \nWhat does co-creation really mean for Performing Arts leaders? How can co-creation help our sector move forward with intention\, relevance and resilience? At the ISPA 2023 mid-year congress\, we will come together in Manchester to take stock of where we are\, to collectively reflect on these questions and to envisage what the journey forward could look like. \n  \nDelegates will be challenged and inspired by a range of speakers and panelists\, and we will provide space for conversation and exchange. \nManchester has creativity and culture at its heart\, and we look forward to welcoming delegates to explore the rich offering in the city and across the North West region. \n  \nRegister HERE \n  \nView the Congress Schedule HERE
URL:https://gfpa.ngo/event/ispa-congress-manchester-2023/
LOCATION:Manchester\, Manchester\, United Kingdom
CATEGORIES:Conferences
ATTACH;FMTTYPE=image/jpeg:https://gfpa.ngo/wp-content/uploads/2023/03/ISPA-Manchester-Congress-2023.jpeg
GEO:53.4807593;-2.2426305
END:VEVENT
BEGIN:VEVENT
DTSTART;VALUE=DATE:20230110
DTEND;VALUE=DATE:20230113
DTSTAMP:20260426T002023
CREATED:20221115T142907Z
LAST-MODIFIED:20230806T125723Z
UID:10000031-1673308800-1673567999@gfpa.ngo
SUMMARY:ISPA Congress 2023
DESCRIPTION:The ISPA Congress 2023 will once again be held in New York in January. \nIn 2022\, we explored the “opportunity” of now. We came together to discuss issues ranging from equity to climate change and to envision a new future. One year later\, “urgency” is the watchword. As the performing arts sector reopens\, has there been tangible action on the pressing needs we identified? How do we meet the challenges of the present moment and uphold our commitments to change? At the ISPA Congress 2023\, we will explore what we have accomplished to date and\, perhaps more urgently\, what still needs to be done.
URL:https://gfpa.ngo/event/ispa-congress-2023/
LOCATION:New York\, New York\, NY\, United States
CATEGORIES:Conferences
ATTACH;FMTTYPE=image/jpeg:https://gfpa.ngo/wp-content/uploads/2022/11/ISPA-Congress-2023-e1668522381263.jpeg
GEO:40.7127753;-74.0059728
END:VEVENT
END:VCALENDAR