BEGIN:VCALENDAR
VERSION:2.0
PRODID:-//Global Foundation for the Performing Arts - ECPv6.15.13//NONSGML v1.0//EN
CALSCALE:GREGORIAN
METHOD:PUBLISH
X-WR-CALNAME:Global Foundation for the Performing Arts
X-ORIGINAL-URL:https://gfpa.ngo
X-WR-CALDESC:Events for Global Foundation for the Performing Arts
REFRESH-INTERVAL;VALUE=DURATION:PT1H
X-Robots-Tag:noindex
X-PUBLISHED-TTL:PT1H
BEGIN:VTIMEZONE
TZID:Europe/Berlin
BEGIN:DAYLIGHT
TZOFFSETFROM:+0100
TZOFFSETTO:+0200
TZNAME:CEST
DTSTART:20230326T010000
END:DAYLIGHT
BEGIN:STANDARD
TZOFFSETFROM:+0200
TZOFFSETTO:+0100
TZNAME:CET
DTSTART:20231029T010000
END:STANDARD
BEGIN:DAYLIGHT
TZOFFSETFROM:+0100
TZOFFSETTO:+0200
TZNAME:CEST
DTSTART:20240331T010000
END:DAYLIGHT
BEGIN:STANDARD
TZOFFSETFROM:+0200
TZOFFSETTO:+0100
TZNAME:CET
DTSTART:20241027T010000
END:STANDARD
BEGIN:DAYLIGHT
TZOFFSETFROM:+0100
TZOFFSETTO:+0200
TZNAME:CEST
DTSTART:20250330T010000
END:DAYLIGHT
BEGIN:STANDARD
TZOFFSETFROM:+0200
TZOFFSETTO:+0100
TZNAME:CET
DTSTART:20251026T010000
END:STANDARD
END:VTIMEZONE
BEGIN:VEVENT
DTSTART;VALUE=DATE:20240716
DTEND;VALUE=DATE:20240728
DTSTAMP:20260426T002645
CREATED:20240115T143211Z
LAST-MODIFIED:20240115T143211Z
UID:10000214-1721088000-1722124799@gfpa.ngo
SUMMARY:International Johann Sebastian Bach Competition 2024
DESCRIPTION:The XXIVth International Johann Sebastian Bach Competition 2024 will be held in the following disciplines: Organ\, Voice\, Violoncello/Baroque Violoncello. The Competition is open to the public. The Competition will be held in Leipzig from July 16 to 27\, 2024. \n  \nApplications for the competition may be submitted between December 1\, 2023 and February 29\, 2024 (23:59 CET) via the MUVAC portal\, www.muvac.com. Each candidate may apply for one discipline only. \n  \nThe International Johann Sebastian Bach Competition 2024 is open to soloists of any nationality who are at least 16 years old. The participants must have been born after July 27\, 1991. Candidates who were admitted to the 2020 Bach Competition after the pre-selection rounds may also apply for the 2024 competition even if they have passed the age limit. \n  \nBach Prizes\n1st Prize € 10.000\n2nd Prize €  7.500\n3rd Prize €   5.000 \nThe prizewinners have the right to use the title »Bach Prizewinners«.
URL:https://gfpa.ngo/event/international-johann-sebastian-bach-competition-2024/
LOCATION:Leipzig\, Leipzig\, Germany
CATEGORIES:Competitions
ATTACH;FMTTYPE=image/jpeg:https://gfpa.ngo/wp-content/uploads/2024/01/International-Bach-Competition-scaled-e1705329051816.jpg
ORGANIZER;CN="Bach Archive Leipzig":MAILTO:wettbewerb@bach-leipzig.de
GEO:51.3396955;12.3730747
END:VEVENT
END:VCALENDAR